BEGIN:VCALENDAR
VERSION:2.0
PRODID:-//nebraskacounties.org//NONSGML kigkonsult.se iCalcreator 2.30.10//
CALSCALE:GREGORIAN
METHOD:PUBLISH
UID:5037922e-0af7-48c2-a46c-0eb1f8759cf9
X-WR-CALDESC:Registration Fee: $50 in advance\; $60 walk in at the door\nRe
 gistration Deadline: 3/6/2025\n\nCancellation Policy: Registrants who give
  written cancellation prior to deadline will receive full refund. Cancella
 tions received after deadline will not be eligible for refund. Registrants
  who do not cancel prior to deadline\, do not attend and did not pay are s
 till required to pay a registration fee. Registrations are non-transferabl
 e. \n\nUpdated Agenda:\n11:00 AM - 12:00 PM: Registration\n12:00 PM: Lunch
 \n12:30 - 1:45 PM: Business Meeting\n1:45 - 3:45 PM: Breakout Sessions\n3:
 45 PM: Adjourn\n
X-WR-RELCALID:f800bce47f5f253586528fbe3c3a5e61
X-WR-TIMEZONE:America/Chicago
BEGIN:VTIMEZONE
TZID:America/Chicago
BEGIN:STANDARD
TZNAME:CST
DTSTART:20241103T020000
TZOFFSETFROM:-0500
TZOFFSETTO:-0600
RDATE:20251102T020000
END:STANDARD
BEGIN:DAYLIGHT
TZNAME:CDT
DTSTART:20250309T020000
TZOFFSETFROM:-0600
TZOFFSETTO:-0500
RDATE:20260308T020000
END:DAYLIGHT
END:VTIMEZONE
BEGIN:VEVENT
UID:87eb7f93-6e0c-40c3-b528-2ba4c72b5928
DTSTAMP:20260425T233314Z
DESCRIPTION:Registration Fee: $50 in advance\; $60 walk in at the door\nReg
 istration Deadline: 3/6/2025\n\nCancellation Policy: Registrants who give 
 written cancellation prior to deadline will receive full refund. Cancellat
 ions received after deadline will not be eligible for refund. Registrants 
 who do not cancel prior to deadline\, do not attend and did not pay are st
 ill required to pay a registration fee. Registrations are non-transferable
 . \n\nUpdated Agenda:\n11:00 AM - 12:00 PM: Registration\n12:00 PM: Lunch
 \n12:30 - 1:45 PM: Business Meeting\n1:45 - 3:45 PM: Breakout Sessions\n3:
 45 PM: Adjourn\n
DTSTART;TZID=America/Chicago:20250320T110000
DTEND;TZID=America/Chicago:20250320T160000
LOCATION:Younes Center South\, Kearney\, NE
SUMMARY:NACO Central District Meeting
END:VEVENT
END:VCALENDAR
