BEGIN:VCALENDAR
VERSION:2.0
PRODID:-//nebraskacounties.org//NONSGML kigkonsult.se iCalcreator 2.30.10//
CALSCALE:GREGORIAN
METHOD:PUBLISH
UID:46af9677-b03e-44a4-b557-9fb2d87593ee
X-WR-CALDESC:2025 NACO Annual Conference Registration/Cancellation Policy:
 \n\nPre-Registration Fee: $160\n\nRegistrations received after 11/21/2025 
 deadline will be considered as on-site\, walk-in registrations:  $175\n\nG
 uest/Spouse registrations must be paid at the time of registration or on-s
 ite:  $100\n\nGuest meal tickets purchased on site: $30\n\nRegistration De
 adline: 11/21/2025 at 11:59 PM CST\n\nRegistrants must submit written canc
 ellation notification to NACO prior to the 11/21/25 deadline by 11:59 PM C
 ST by emailing Peggy Brass (peggy.brass@nebraskacounties.org). Registrants
  who cancel after the 11/21/2025 deadline will be subject to a $75 adminis
 trative fee. REGISTRATIONS ARE NON-TRANSFERABLE.\n\nPLEASE READ THE COMPLE
 TE ANNUAL CONFERENCE REGISTRATION / CANCELLATION POLICY DOCUMENT LINKED BE
 LOW.\n\nIf paying by check\, please send payment to:\nNACO\nP.O. Box 6632 
 \nLincoln\, NE 68506
X-WR-RELCALID:136b6bac5d84169a37735aa6577cf89a
X-WR-TIMEZONE:America/Chicago
BEGIN:VTIMEZONE
TZID:America/Chicago
BEGIN:STANDARD
TZNAME:CST
DTSTART:20251102T020000
TZOFFSETFROM:-0500
TZOFFSETTO:-0600
RDATE:20261101T020000
END:STANDARD
BEGIN:DAYLIGHT
TZNAME:CDT
DTSTART:20250309T020000
TZOFFSETFROM:-0600
TZOFFSETTO:-0500
RDATE:20260308T020000
RDATE:20270314T020000
END:DAYLIGHT
END:VTIMEZONE
BEGIN:VEVENT
UID:b8062b90-8adc-4e3f-ae73-c308a546f40c
DTSTAMP:20260421T083936Z
DESCRIPTION:2025 NACO Annual Conference Registration/Cancellation Policy:\n
 \nPre-Registration Fee: $160\n\nRegistrations received after 11/21/2025 de
 adline will be considered as on-site\, walk-in registrations:  $175\n\nGue
 st/Spouse registrations must be paid at the time of registration or on-sit
 e:  $100\n\nGuest meal tickets purchased on site: $30\n\nRegistration Dead
 line: 11/21/2025 at 11:59 PM CST\n\nRegistrants must submit written cancel
 lation notification to NACO prior to the 11/21/25 deadline by 11:59 PM CST
  by emailing Peggy Brass (peggy.brass@nebraskacounties.org). Registrants w
 ho cancel after the 11/21/2025 deadline will be subject to a $75 administr
 ative fee. REGISTRATIONS ARE NON-TRANSFERABLE.\n\nPLEASE READ THE COMPLETE
  ANNUAL CONFERENCE REGISTRATION / CANCELLATION POLICY DOCUMENT LINKED BELO
 W.\n\nIf paying by check\, please send payment to:\nNACO\nP.O. Box 6632 \n
 Lincoln\, NE 68506
DTSTART;TZID=America/Chicago:20251217T050000
DTEND;TZID=America/Chicago:20251219T050001
LOCATION:Younes Conference Center North - Crowne Plaza\, 707 Talmadge St\, 
 Kearney\, NE 68845 US
SUMMARY:NACO Annual Conference
END:VEVENT
END:VCALENDAR
