BEGIN:VCALENDAR
VERSION:2.0
PRODID:-//nebraskacounties.org//NONSGML kigkonsult.se iCalcreator 2.30.10//
CALSCALE:GREGORIAN
METHOD:PUBLISH
UID:84f91d47-b62e-42da-a064-180951f7dfe3
X-WR-CALDESC:This workshop is for County Board Chairs and Vice Chairs.\n\nL
 ocation: Younes Conference Center North | Silver 2&3\nRegistration fee: $0
 \nDeadline to pre-register: February 6\, 2026 at 11:59 PM CST\nWalk-in reg
 istrants welcome after the deadline.\n\nRegistration 8:00 - 8:30 AM\nSessi
 ons 8:30 AM - 3:00 PM\nLunch is included.
X-WR-RELCALID:16a4e58827d557a35fde4801b1ae6589
X-WR-TIMEZONE:America/Chicago
BEGIN:VTIMEZONE
TZID:America/Chicago
BEGIN:STANDARD
TZNAME:CST
DTSTART:20251102T020000
TZOFFSETFROM:-0500
TZOFFSETTO:-0600
RDATE:20261101T020000
END:STANDARD
BEGIN:DAYLIGHT
TZNAME:CDT
DTSTART:20250309T020000
TZOFFSETFROM:-0600
TZOFFSETTO:-0500
RDATE:20260308T020000
RDATE:20270314T020000
END:DAYLIGHT
END:VTIMEZONE
BEGIN:VEVENT
UID:c473717d-96c4-4b32-b68d-bffd74762c4d
DTSTAMP:20260422T114410Z
DESCRIPTION:This workshop is for County Board Chairs and Vice Chairs.\n\nLo
 cation: Younes Conference Center North | Silver 2&3\nRegistration fee: $0
 \nDeadline to pre-register: February 6\, 2026 at 11:59 PM CST\nWalk-in reg
 istrants welcome after the deadline.\n\nRegistration 8:00 - 8:30 AM\nSessi
 ons 8:30 AM - 3:00 PM\nLunch is included.
DTSTART;TZID=America/Chicago:20260213T080000
DTEND;TZID=America/Chicago:20260213T150000
LOCATION:Younes Conference Center North - Crowne Plaza\, 707 Talmadge Stree
 t\, Kearney\, NE 68845 US
SUMMARY:County Chair Workshop
END:VEVENT
END:VCALENDAR
