BEGIN:VCALENDAR
VERSION:2.0
PRODID:-//nebraskacounties.org//NONSGML kigkonsult.se iCalcreator 2.30.10//
CALSCALE:GREGORIAN
METHOD:PUBLISH
UID:90e40eb0-ff89-4839-a34c-4d9c1b1e310f
X-WR-CALDESC:Southeast District Meeting\nThursday\, March 12\, 2026\nThe Ca
 reer Academy\, SCC\, Lincoln\nRegistration Fee: $40\nRegistration Deadline
 : 3/5/2026\nCancellation Policy: Registrants who give written cancellation
  prior to deadline will receive full refund. Cancellations received after 
 deadline will not be eligible for refund. Registrants who do not cancel pr
 ior to deadline\, do not attend and did not pay are still required to pay 
 registration fee. Registrations are non-transferable. For cancellations\, 
 please email Peggy.Brass@nebraskacounties.org.\n\nRegistration: 8:00-9:00 
 AM\nBusiness Meeting: 9:00-10:15 AM\nBreakout Sessions: 10:15 AM - 12:00 P
 M\nLunch: 12:00-1:00 PM\n\n\n
X-WR-RELCALID:113b2e03a16636a684f6f19e6da283c5
X-WR-TIMEZONE:America/Chicago
BEGIN:VTIMEZONE
TZID:America/Chicago
BEGIN:STANDARD
TZNAME:CST
DTSTART:20251102T020000
TZOFFSETFROM:-0500
TZOFFSETTO:-0600
RDATE:20261101T020000
END:STANDARD
BEGIN:DAYLIGHT
TZNAME:CDT
DTSTART:20260308T020000
TZOFFSETFROM:-0600
TZOFFSETTO:-0500
RDATE:20270314T020000
END:DAYLIGHT
END:VTIMEZONE
BEGIN:VEVENT
UID:4faf2656-ab8c-4cc0-a8d9-485f6182361d
DTSTAMP:20260420T081913Z
DESCRIPTION:Southeast District Meeting\nThursday\, March 12\, 2026\nThe Car
 eer Academy\, SCC\, Lincoln\nRegistration Fee: $40\nRegistration Deadline:
  3/5/2026\nCancellation Policy: Registrants who give written cancellation 
 prior to deadline will receive full refund. Cancellations received after d
 eadline will not be eligible for refund. Registrants who do not cancel pri
 or to deadline\, do not attend and did not pay are still required to pay r
 egistration fee. Registrations are non-transferable. For cancellations\, p
 lease email Peggy.Brass@nebraskacounties.org.\n\nRegistration: 8:00-9:00 A
 M\nBusiness Meeting: 9:00-10:15 AM\nBreakout Sessions: 10:15 AM - 12:00 PM
 \nLunch: 12:00-1:00 PM\n\n\n
DTSTART;TZID=America/Chicago:20260312T090000
DTEND;TZID=America/Chicago:20260312T120000
LOCATION:Southeast Community College Career Academy\, 8800 O Street\, Linco
 ln\, NE
SUMMARY:Southeast District Meeting
END:VEVENT
END:VCALENDAR
