BEGIN:VCALENDAR
VERSION:2.0
PRODID:-//nebraskacounties.org//NONSGML kigkonsult.se iCalcreator 2.30.10//
CALSCALE:GREGORIAN
METHOD:PUBLISH
UID:1d676d9d-5ba9-41f2-b7ba-a3eab7129079
X-WR-CALDESC:Panhandle District Meeting\nPrairie Winds Community Center\, B
 ridgeport\nWednesday\, March 25\, 2026\nRegistration Fee: $0\nRegistration
  Deadline: 3/18/2026\n\nRegistration: 8:00-9:00 AM\nBusiness Meeting: 9:00
 -10:15 AM\nBreakout Sessions: 10:15 AM - 12:00 PM\nLunch: 12:00-1:00 PM\n
 \n\n
X-WR-RELCALID:349006f4485136bb265adea28a394f29
X-WR-TIMEZONE:America/Denver
BEGIN:VTIMEZONE
TZID:America/Denver
BEGIN:STANDARD
TZNAME:MST
DTSTART:20251102T020000
TZOFFSETFROM:-0600
TZOFFSETTO:-0700
RDATE:20261101T020000
END:STANDARD
BEGIN:DAYLIGHT
TZNAME:MDT
DTSTART:20260308T020000
TZOFFSETFROM:-0700
TZOFFSETTO:-0600
RDATE:20270314T020000
END:DAYLIGHT
END:VTIMEZONE
BEGIN:VEVENT
UID:9427f5fc-a36c-4064-a083-62d8a8ac9505
DTSTAMP:20260422T083616Z
DESCRIPTION:Panhandle District Meeting\nPrairie Winds Community Center\, Br
 idgeport\nWednesday\, March 25\, 2026\nRegistration Fee: $0\nRegistration 
 Deadline: 3/18/2026\n\nRegistration: 8:00-9:00 AM\nBusiness Meeting: 9:00-
 10:15 AM\nBreakout Sessions: 10:15 AM - 12:00 PM\nLunch: 12:00-1:00 PM\n\n
 \n
DTSTART;TZID=America/Denver:20260325T090000
DTEND;TZID=America/Denver:20260325T120000
LOCATION:Prairie Winds Community Center\, 428 N Main St\, Bridgeport\, NE
SUMMARY:Panhandle District Meeting
END:VEVENT
END:VCALENDAR
