BEGIN:VCALENDAR
VERSION:2.0
PRODID:-//nebraskacounties.org//NONSGML kigkonsult.se iCalcreator 2.30.10//
CALSCALE:GREGORIAN
METHOD:PUBLISH
UID:d7cae319-9e70-4791-9dcf-513a0082c170
X-WR-CALDESC:3-Week Online Session: May 4-8\, May 11-15\, May 18-22\nOne In
 -Person Session: June 3\, 2026\, 9:00-11:00 AM\, Younes Conference Center 
 North\, Kearney\n\nIn collaboration with the University of Nebraska Extens
 ion\, the County Official Online Learning (COOL) Network is a hybrid educa
 tional course that includes a three-week online session in May 2026\, foll
 owed by one in-person session in Kearney\, NE\, on June 3\, 2026.\n\nTopic
 s covered include:\nThe purpose\, structure\, and funding of county govern
 ment\nGovernment finance\, expenditures and mandates\nCourthouse infrastru
 cture\, Information Technology risk management\nVisioning and strategic pl
 anning\n\nRegistration Fee: $100\nSession Starts: May 4\, 2026\nEnrollment
  Deadline: April 17\, 2026\n
X-WR-RELCALID:6833a5997e12706a2bdff6881db48cbf
X-WR-TIMEZONE:America/Chicago
BEGIN:VTIMEZONE
TZID:America/Chicago
BEGIN:STANDARD
TZNAME:CST
DTSTART:20251102T020000
TZOFFSETFROM:-0500
TZOFFSETTO:-0600
RDATE:20261101T020000
END:STANDARD
BEGIN:DAYLIGHT
TZNAME:CDT
DTSTART:20260308T020000
TZOFFSETFROM:-0600
TZOFFSETTO:-0500
RDATE:20270314T020000
END:DAYLIGHT
END:VTIMEZONE
BEGIN:VEVENT
UID:0ed79494-e5cc-4758-95f5-f2fdcb250040
DTSTAMP:20260420T122610Z
DESCRIPTION:3-Week Online Session: May 4-8\, May 11-15\, May 18-22\nOne In-
 Person Session: June 3\, 2026\, 9:00-11:00 AM\, Younes Conference Center N
 orth\, Kearney\n\nIn collaboration with the University of Nebraska Extensi
 on\, the County Official Online Learning (COOL) Network is a hybrid educat
 ional course that includes a three-week online session in May 2026\, follo
 wed by one in-person session in Kearney\, NE\, on June 3\, 2026.\n\nTopics
  covered include:\nThe purpose\, structure\, and funding of county governm
 ent\nGovernment finance\, expenditures and mandates\nCourthouse infrastruc
 ture\, Information Technology risk management\nVisioning and strategic pla
 nning\n\nRegistration Fee: $100\nSession Starts: May 4\, 2026\nEnrollment 
 Deadline: April 17\, 2026\n
DTSTART;TZID=America/Chicago:20260504T050000
DTEND;TZID=America/Chicago:20260603T050001
LOCATION:
SUMMARY:County Officials Online Learning (COOL) Network
END:VEVENT
END:VCALENDAR
