BEGIN:VCALENDAR
VERSION:2.0
PRODID:-//nebraskacounties.org//NONSGML kigkonsult.se iCalcreator 2.30.10//
CALSCALE:GREGORIAN
METHOD:PUBLISH
UID:fefba96e-c905-4bb7-b9fe-171bf1c59dd5
X-WR-CALDESC:Deadline to Register: May 22\, 2026 at 11:59 PM CST\n\nRefunds
  will not be permitted after May 22\, 2026. Sponsorship payment is require
 d at the time of registration and must be made via credit card. If you nee
 d to arrange an alternative payment method\, please contact Candace Meredi
 th at candace.meredith@nebraskacounties.org or 402.434.5660 x1223.
X-WR-RELCALID:94ce1524d1050b8c8db273646c9f4849
X-WR-TIMEZONE:America/Chicago
BEGIN:VTIMEZONE
TZID:America/Chicago
BEGIN:STANDARD
TZNAME:CST
DTSTART:20251102T020000
TZOFFSETFROM:-0500
TZOFFSETTO:-0600
RDATE:20261101T020000
RDATE:20271107T020000
END:STANDARD
BEGIN:DAYLIGHT
TZNAME:CDT
DTSTART:20260308T020000
TZOFFSETFROM:-0600
TZOFFSETTO:-0500
RDATE:20270314T020000
END:DAYLIGHT
END:VTIMEZONE
BEGIN:VEVENT
UID:efb60a28-b4db-40b5-94c7-92bf8ad3c125
DTSTAMP:20260421T163347Z
DESCRIPTION:Deadline to Register: May 22\, 2026 at 11:59 PM CST\n\nRefunds 
 will not be permitted after May 22\, 2026. Sponsorship payment is required
  at the time of registration and must be made via credit card. If you need
  to arrange an alternative payment method\, please contact Candace Meredit
 h at candace.meredith@nebraskacounties.org or 402.434.5660 x1223.
DTSTART;TZID=America/Chicago:20260603T050000
DTEND;TZID=America/Chicago:20260604T050001
LOCATION:Younes Conference Center North - Crowne Plaza\, 707 Talmadge Stree
 t\, Kearney\, NE 68845 US
SUMMARY:County Board Workshop Sponsorships
END:VEVENT
END:VCALENDAR
