BEGIN:VCALENDAR
VERSION:2.0
PRODID:-//nebraskacounties.org//NONSGML kigkonsult.se iCalcreator 2.30.10//
CALSCALE:GREGORIAN
METHOD:PUBLISH
UID:086e5fce-af9c-4b11-852a-e655755920a9
X-WR-CALDESC:June 3-4\, 2026\nYounes Conference Center North\, Kearney\nCos
 t: $125 in Advance\, $150 at the Door\n(Registration includes dinner on 6/
 3\, breakfast and lunch on 6/4)\nGuest dinner ticket for 6/3: $35\nRegistr
 ation Deadline: 5/27/26 at 11:59 pm CST\n\nCancellation Policy: Registrant
 s who submit written cancellation prior to the 5/27/2026 deadline are elig
 ible for a full refund. Registrants who do not submit written cancellation
  prior to the 5/27/2026 deadline\, do not attend and did not pay are subje
 ct to a $50.00 administrative fee\, includes No Shows. Registrations are n
 on-transferable.\n\nSubmit cancellation notices to peggy.brass@nebraskacou
 nties.org\n
X-WR-RELCALID:7f057d83c11df335a3e255010fc3514b
X-WR-TIMEZONE:America/Chicago
BEGIN:VTIMEZONE
TZID:America/Chicago
BEGIN:STANDARD
TZNAME:CST
DTSTART:20251102T020000
TZOFFSETFROM:-0500
TZOFFSETTO:-0600
RDATE:20261101T020000
RDATE:20271107T020000
END:STANDARD
BEGIN:DAYLIGHT
TZNAME:CDT
DTSTART:20260308T020000
TZOFFSETFROM:-0600
TZOFFSETTO:-0500
RDATE:20270314T020000
END:DAYLIGHT
END:VTIMEZONE
BEGIN:VEVENT
UID:ab60ee0e-064f-486b-90ef-a76b5293c7b7
DTSTAMP:20260421T151823Z
DESCRIPTION:June 3-4\, 2026\nYounes Conference Center North\, Kearney\nCost
 : $125 in Advance\, $150 at the Door\n(Registration includes dinner on 6/3
 \, breakfast and lunch on 6/4)\nGuest dinner ticket for 6/3: $35\nRegistra
 tion Deadline: 5/27/26 at 11:59 pm CST\n\nCancellation Policy: Registrants
  who submit written cancellation prior to the 5/27/2026 deadline are eligi
 ble for a full refund. Registrants who do not submit written cancellation 
 prior to the 5/27/2026 deadline\, do not attend and did not pay are subjec
 t to a $50.00 administrative fee\, includes No Shows. Registrations are no
 n-transferable.\n\nSubmit cancellation notices to peggy.brass@nebraskacoun
 ties.org\n
DTSTART;TZID=America/Chicago:20260603T080000
DTEND;TZID=America/Chicago:20260604T140000
LOCATION:Younes Conference Center North - Crowne Plaza\, 707 Talmadge Stree
 t\, Kearney\, NE 68845 US
SUMMARY:County Board Workshop
END:VEVENT
END:VCALENDAR
