BEGIN:VCALENDAR
VERSION:2.0
PRODID:-//nebraskacounties.org//NONSGML kigkonsult.se iCalcreator 2.30.10//
CALSCALE:GREGORIAN
METHOD:PUBLISH
UID:81982a35-9d31-49e5-ad13-3afaa945c18d
X-WR-CALDESC:The NACO Land Use Permit Forum will be held on June 3rd from 8
  to 12 at Younes Center North.  This forum will be an interactive experien
 ce for attendees to provide feedback and guidance on a NACO project to dev
 elop practical\, county-focused best-practice materials and tools to suppo
 rt local regulation and permitting decisions—especially for land-use propo
 sals with significant community impacts.\n\nTentative Agenda Layout\n8:00-
 9:30 Livestock\n9:45-11:15 Energy\n11:30-12:00 Broadband\n\nThe forum is f
 ree to attend.\nDeadline to pre-register online: 5/27/2026
X-WR-RELCALID:c7c55bc22310d55e17ceb8888b37c4db
X-WR-TIMEZONE:America/Chicago
BEGIN:VTIMEZONE
TZID:America/Chicago
BEGIN:STANDARD
TZNAME:CST
DTSTART:20251102T020000
TZOFFSETFROM:-0500
TZOFFSETTO:-0600
RDATE:20261101T020000
RDATE:20271107T020000
END:STANDARD
BEGIN:DAYLIGHT
TZNAME:CDT
DTSTART:20260308T020000
TZOFFSETFROM:-0600
TZOFFSETTO:-0500
RDATE:20270314T020000
END:DAYLIGHT
END:VTIMEZONE
BEGIN:VEVENT
UID:49d2c489-ea5c-4546-aa60-3b376fc9f38e
DTSTAMP:20260422T101159Z
DESCRIPTION:The NACO Land Use Permit Forum will be held on June 3rd from 8 
 to 12 at Younes Center North.  This forum will be an interactive experienc
 e for attendees to provide feedback and guidance on a NACO project to deve
 lop practical\, county-focused best-practice materials and tools to suppor
 t local regulation and permitting decisions—especially for land-use propos
 als with significant community impacts.\n\nTentative Agenda Layout\n8:00-9
 :30 Livestock\n9:45-11:15 Energy\n11:30-12:00 Broadband\n\nThe forum is fr
 ee to attend.\nDeadline to pre-register online: 5/27/2026
DTSTART;TZID=America/Chicago:20260603T080000
DTEND;TZID=America/Chicago:20260603T120000
LOCATION:Younes Conference Center North - Crowne Plaza\, 707 Talmadge Stree
 t\, Kearney\, NE 68845 US
SUMMARY:Land Use Permit Forum
END:VEVENT
END:VCALENDAR
