BEGIN:VCALENDAR
VERSION:2.0
PRODID:-//nebraskacounties.org//NONSGML kigkonsult.se iCalcreator 2.30.10//
CALSCALE:GREGORIAN
METHOD:PUBLISH
UID:23814eec-7643-434a-abbd-5ad9943228db
X-WR-CALDESC:Tuesday\, June 9th   - Executive Board Meeting plus any commit
 tee meetings.  Explore Yanney Park starting at 4:30 & enjoy an evening mea
 l at the ERC Building at Yanney Park @ 5:30.  \n\nWednesday\, June 10th - 
 Continuing Education with Noon meal\, Evening meal at the Holiday Inn Conf
 erence Center at 6:00 followed by entertainment beginning at 6:45\n\nThurs
 day\, June 11th - Continuing Education followed by 'To Go Sack Lunch'\n\nI
 f you have questions regarding the workshop and hotel information\, contac
 t Jackie Drain\, 308-334-5500\,  jdrain@hitchcockcountyne.gov.\n\nFor regi
 stration cancellations\, please contact Peggy.Brass@nebraskacounties.org.
 \n\n\n\n
X-WR-RELCALID:04c1d6f79d379f57edd6c7bd5e3c9855
X-WR-TIMEZONE:America/Chicago
BEGIN:VTIMEZONE
TZID:America/Chicago
BEGIN:STANDARD
TZNAME:CST
DTSTART:20251102T020000
TZOFFSETFROM:-0500
TZOFFSETTO:-0600
RDATE:20261101T020000
RDATE:20271107T020000
END:STANDARD
BEGIN:DAYLIGHT
TZNAME:CDT
DTSTART:20260308T020000
TZOFFSETFROM:-0600
TZOFFSETTO:-0500
RDATE:20270314T020000
END:DAYLIGHT
END:VTIMEZONE
BEGIN:VEVENT
UID:cbf6f4d2-7d84-45e7-be62-31ff414ab3e3
DTSTAMP:20260422T101358Z
DESCRIPTION:Tuesday\, June 9th   - Executive Board Meeting plus any committ
 ee meetings.  Explore Yanney Park starting at 4:30 & enjoy an evening meal
  at the ERC Building at Yanney Park @ 5:30.  \n\nWednesday\, June 10th - C
 ontinuing Education with Noon meal\, Evening meal at the Holiday Inn Confe
 rence Center at 6:00 followed by entertainment beginning at 6:45\n\nThursd
 ay\, June 11th - Continuing Education followed by 'To Go Sack Lunch'\n\nIf
  you have questions regarding the workshop and hotel information\, contact
  Jackie Drain\, 308-334-5500\,  jdrain@hitchcockcountyne.gov.\n\nFor regis
 tration cancellations\, please contact Peggy.Brass@nebraskacounties.org.\n
 \n\n\n
DTSTART;TZID=America/Chicago:20260609T050000
DTEND;TZID=America/Chicago:20260611T050001
LOCATION:Holiday Inn\, Kearney
SUMMARY:NACT Workshop
END:VEVENT
END:VCALENDAR
