BEGIN:VCALENDAR
VERSION:2.0
PRODID:-//nebraskacounties.org//NONSGML kigkonsult.se iCalcreator 2.30.10//
CALSCALE:GREGORIAN
METHOD:PUBLISH
UID:848dbe94-a50f-42c6-8052-fd75d0e04d2d
X-WR-CALDESC:Cost: $125\nGuest Ticket: $50 (Intended for all office staff a
 ttending just one day)\nRegistration Deadline: 6/1/2026 by 11:59 pm CST\nC
 ancellation Policy: Registrants who submit written cancellation prior to d
 eadline are eligible for full refund. Registrants who do not submit writte
 n cancellation prior to deadline\, do not attend and did not pay are still
  responsible for paying registration fee\, includes No Shows. Registration
 s are non-transferable.\n\nSubmit cancellation notices to peggy.brass@nebr
 askacounties.org.
X-WR-RELCALID:0762b01e39362d6a8a7ad927417dcba8
X-WR-TIMEZONE:America/Chicago
BEGIN:VTIMEZONE
TZID:America/Chicago
BEGIN:STANDARD
TZNAME:CST
DTSTART:20251102T020000
TZOFFSETFROM:-0500
TZOFFSETTO:-0600
RDATE:20261101T020000
RDATE:20271107T020000
END:STANDARD
BEGIN:DAYLIGHT
TZNAME:CDT
DTSTART:20260308T020000
TZOFFSETFROM:-0600
TZOFFSETTO:-0500
RDATE:20270314T020000
END:DAYLIGHT
END:VTIMEZONE
BEGIN:VEVENT
UID:165b4dcf-e677-4c0b-8ded-e02357f861a9
DTSTAMP:20260420T125427Z
DESCRIPTION:Cost: $125\nGuest Ticket: $50 (Intended for all office staff at
 tending just one day)\nRegistration Deadline: 6/1/2026 by 11:59 pm CST\nCa
 ncellation Policy: Registrants who submit written cancellation prior to de
 adline are eligible for full refund. Registrants who do not submit written
  cancellation prior to deadline\, do not attend and did not pay are still 
 responsible for paying registration fee\, includes No Shows. Registrations
  are non-transferable.\n\nSubmit cancellation notices to peggy.brass@nebra
 skacounties.org.
DTSTART;TZID=America/Chicago:20260616T050000
DTEND;TZID=America/Chicago:20260618T050001
LOCATION:Younes Center South\, 416 Talmadge St\, Kearney\, NE 68845
SUMMARY:NACREC Workshop
END:VEVENT
END:VCALENDAR
