BEGIN:VCALENDAR
VERSION:2.0
PRODID:-//nebraskacounties.org//NONSGML kigkonsult.se iCalcreator 2.30.10//
CALSCALE:GREGORIAN
METHOD:PUBLISH
UID:e4e3ecca-515c-447b-b38d-a1818c5aa67c
X-WR-CALDESC:
X-WR-RELCALID:7990ba558d80ffab54179c83d0f55e80
X-WR-TIMEZONE:America/Chicago
BEGIN:VTIMEZONE
TZID:America/Chicago
BEGIN:STANDARD
TZNAME:CST
DTSTART:20251102T020000
TZOFFSETFROM:-0500
TZOFFSETTO:-0600
RDATE:20261101T020000
RDATE:20271107T020000
END:STANDARD
BEGIN:DAYLIGHT
TZNAME:CDT
DTSTART:20260308T020000
TZOFFSETFROM:-0600
TZOFFSETTO:-0500
RDATE:20270314T020000
END:DAYLIGHT
END:VTIMEZONE
BEGIN:VEVENT
UID:04abce7f-543d-421b-bdba-0ab540be21c0
DTSTAMP:20260422T101504Z
DESCRIPTION:
DTSTART;TZID=America/Chicago:20260616T050000
DTEND;TZID=America/Chicago:20260618T050001
LOCATION:
SUMMARY:Nebraska Association of County Engineers\, County Highway Superinte
 ndents & County Surveyors
END:VEVENT
END:VCALENDAR
