BEGIN:VCALENDAR
VERSION:2.0
PRODID:-//nebraskacounties.org//NONSGML kigkonsult.se iCalcreator 2.30.10//
CALSCALE:GREGORIAN
METHOD:PUBLISH
UID:fc0f22b5-fe9b-4f63-8a5e-41208d34d950
X-WR-CALDESC:Holiday Inn Convention Center\, Kearney\nAugust 24-26\, 2026\n
 Registration Fee: $225\nDeadline to Register: August 14\, 2026\n\nCancella
 tion Policy:\nAdvance registration must be completed and received by NACO 
 by 8/14/2026. \nAny registration received after 8/14/2026 deadline will be
  processed as an on-site registration and will be subject to an additional
  $15.00 fee (includes walk ins). \nRegistrants must submit written cancell
 ation prior to 8/14/2026 deadline to NACO.  THERE WILL BE NO REFUNDS ISSUE
 D TO THE COUNTY. \nNACO shall return the registration fee to the Assessor 
 Association for documentation\, and the Treasurer will issue a voucher to 
 the county redeemable toward the following year’s workshop. \nRegistrants 
 who do not submit written cancellation prior to 8/14/2026 deadline\, do no
 t attend and did not pay are subject to a $20.00 administrative fee (inclu
 des “No Shows”). Please contact peggy.brass@nebraskacounties.org to cancel
 . \n
X-WR-RELCALID:be9eb21a16716f6966bb919b0b063ab8
X-WR-TIMEZONE:America/Chicago
BEGIN:VTIMEZONE
TZID:America/Chicago
BEGIN:STANDARD
TZNAME:CST
DTSTART:20251102T020000
TZOFFSETFROM:-0500
TZOFFSETTO:-0600
RDATE:20261101T020000
RDATE:20271107T020000
END:STANDARD
BEGIN:DAYLIGHT
TZNAME:CDT
DTSTART:20260308T020000
TZOFFSETFROM:-0600
TZOFFSETTO:-0500
RDATE:20270314T020000
END:DAYLIGHT
END:VTIMEZONE
BEGIN:VEVENT
UID:96a434cd-084d-4b2d-b637-4798d305b8f5
DTSTAMP:20260422T145024Z
DESCRIPTION:Holiday Inn Convention Center\, Kearney\nAugust 24-26\, 2026\nR
 egistration Fee: $225\nDeadline to Register: August 14\, 2026\n\nCancellat
 ion Policy:\nAdvance registration must be completed and received by NACO b
 y 8/14/2026. \nAny registration received after 8/14/2026 deadline will be 
 processed as an on-site registration and will be subject to an additional 
 $15.00 fee (includes walk ins). \nRegistrants must submit written cancella
 tion prior to 8/14/2026 deadline to NACO.  THERE WILL BE NO REFUNDS ISSUED
  TO THE COUNTY. \nNACO shall return the registration fee to the Assessor A
 ssociation for documentation\, and the Treasurer will issue a voucher to t
 he county redeemable toward the following year’s workshop. \nRegistrants w
 ho do not submit written cancellation prior to 8/14/2026 deadline\, do not
  attend and did not pay are subject to a $20.00 administrative fee (includ
 es “No Shows”). Please contact peggy.brass@nebraskacounties.org to cancel.
  \n
DTSTART;TZID=America/Chicago:20260823T050000
DTEND;TZID=America/Chicago:20260827T050001
LOCATION:
SUMMARY:Nebraska Association of County Assessors Workshop
END:VEVENT
END:VCALENDAR
