BEGIN:VCALENDAR
VERSION:2.0
PRODID:-//nebraskacounties.org//NONSGML kigkonsult.se iCalcreator 2.30.10//
CALSCALE:GREGORIAN
METHOD:PUBLISH
UID:4bb018b7-2607-45f7-b33a-59b334e4dfb5
X-WR-CALDESC:
X-WR-RELCALID:20839b9057aa88170c106929049b51ea
X-WR-TIMEZONE:America/Chicago
BEGIN:VTIMEZONE
TZID:America/Chicago
BEGIN:STANDARD
TZNAME:CST
DTSTART:20251102T020000
TZOFFSETFROM:-0500
TZOFFSETTO:-0600
RDATE:20261101T020000
RDATE:20271107T020000
END:STANDARD
BEGIN:DAYLIGHT
TZNAME:CDT
DTSTART:20260308T020000
TZOFFSETFROM:-0600
TZOFFSETTO:-0500
RDATE:20270314T020000
END:DAYLIGHT
END:VTIMEZONE
BEGIN:VEVENT
UID:9ff26510-04fb-478a-89f2-4368a2457b5c
DTSTAMP:20260422T144723Z
DESCRIPTION:
DTSTART;TZID=America/Chicago:20260910T050000
DTEND;TZID=America/Chicago:20260910T050001
LOCATION:Mahoney State Park
SUMMARY:Southeast District Meeting
END:VEVENT
END:VCALENDAR
