BEGIN:VCALENDAR
VERSION:2.0
PRODID:-//nebraskacounties.org//NONSGML kigkonsult.se iCalcreator 2.30.10//
CALSCALE:GREGORIAN
METHOD:PUBLISH
UID:ef40bf40-9c9a-4153-8c0b-ebebd15a6651
X-WR-CALDESC:
X-WR-RELCALID:1931f28450747bcf7928ffe95b8831a8
X-WR-TIMEZONE:America/Denver
BEGIN:VTIMEZONE
TZID:America/Denver
BEGIN:STANDARD
TZNAME:MST
DTSTART:20251102T020000
TZOFFSETFROM:-0600
TZOFFSETTO:-0700
RDATE:20261101T020000
RDATE:20271107T020000
END:STANDARD
BEGIN:DAYLIGHT
TZNAME:MDT
DTSTART:20260308T020000
TZOFFSETFROM:-0700
TZOFFSETTO:-0600
RDATE:20270314T020000
RDATE:20280312T020000
END:DAYLIGHT
END:VTIMEZONE
BEGIN:VEVENT
UID:6adcd760-9cda-480b-a6c2-9412170aa891
DTSTAMP:20260422T161029Z
DESCRIPTION:
DTSTART;TZID=America/Denver:20260923T040000
DTEND;TZID=America/Denver:20260923T040001
LOCATION:TBD
SUMMARY:Panhandle District Meeting
END:VEVENT
END:VCALENDAR
