BEGIN:VCALENDAR
VERSION:2.0
PRODID:-//nebraskacounties.org//NONSGML kigkonsult.se iCalcreator 2.30.10//
CALSCALE:GREGORIAN
METHOD:PUBLISH
UID:251c1ffc-65f9-48df-ad10-cc3bc548d973
X-WR-CALDESC:
X-WR-RELCALID:671bc01c7f7da4026e2e0ea071be81ec
X-WR-TIMEZONE:America/Denver
BEGIN:VTIMEZONE
TZID:America/Denver
BEGIN:STANDARD
TZNAME:MST
DTSTART:20251102T020000
TZOFFSETFROM:-0600
TZOFFSETTO:-0700
RDATE:20261101T020000
RDATE:20271107T020000
END:STANDARD
BEGIN:DAYLIGHT
TZNAME:MDT
DTSTART:20260308T020000
TZOFFSETFROM:-0700
TZOFFSETTO:-0600
RDATE:20270314T020000
RDATE:20280312T020000
END:DAYLIGHT
END:VTIMEZONE
BEGIN:VEVENT
UID:31ef26fc-51b2-4bfb-9d77-228c2531833c
DTSTAMP:20260422T145135Z
DESCRIPTION:
DTSTART;TZID=America/Denver:20260924T040000
DTEND;TZID=America/Denver:20260924T040001
LOCATION:102 Diamond Springs Trail\, Ogallala\, AL 69153 US
SUMMARY:West Central District Meeting
END:VEVENT
END:VCALENDAR
