BEGIN:VCALENDAR
VERSION:2.0
PRODID:-//nebraskacounties.org//NONSGML kigkonsult.se iCalcreator 2.30.10//
CALSCALE:GREGORIAN
METHOD:PUBLISH
UID:0d3fa8a7-e1c9-43a1-b8ef-b57b06856d6d
X-WR-CALDESC:
X-WR-RELCALID:4f722f4adf3ae61e67a6fa3bd2ec6984
X-WR-TIMEZONE:America/Chicago
BEGIN:VTIMEZONE
TZID:America/Chicago
BEGIN:STANDARD
TZNAME:CST
DTSTART:20251102T020000
TZOFFSETFROM:-0500
TZOFFSETTO:-0600
RDATE:20261101T020000
RDATE:20271107T020000
END:STANDARD
BEGIN:DAYLIGHT
TZNAME:CDT
DTSTART:20260308T020000
TZOFFSETFROM:-0600
TZOFFSETTO:-0500
RDATE:20270314T020000
RDATE:20280312T020000
END:DAYLIGHT
END:VTIMEZONE
BEGIN:VEVENT
UID:474c4efb-ceda-41e5-b451-2c5ad8436202
DTSTAMP:20260422T160912Z
DESCRIPTION:
DTSTART;TZID=America/Chicago:20261016T050000
DTEND;TZID=America/Chicago:20261016T050001
LOCATION:Burwell
SUMMARY:NACO Legislative Conference
END:VEVENT
END:VCALENDAR
