BEGIN:VCALENDAR
VERSION:2.0
PRODID:-//nebraskacounties.org//NONSGML kigkonsult.se iCalcreator 2.30.10//
CALSCALE:GREGORIAN
METHOD:PUBLISH
UID:262b1fd8-d763-4d6e-9fb4-d7905d738f01
X-WR-CALDESC:
X-WR-RELCALID:84886a65c75c25ee051e47ebba27292e
X-WR-TIMEZONE:America/Chicago
BEGIN:VTIMEZONE
TZID:America/Chicago
BEGIN:STANDARD
TZNAME:CST
DTSTART:20261101T020000
TZOFFSETFROM:-0500
TZOFFSETTO:-0600
RDATE:20271107T020000
END:STANDARD
BEGIN:DAYLIGHT
TZNAME:CDT
DTSTART:20260308T020000
TZOFFSETFROM:-0600
TZOFFSETTO:-0500
RDATE:20270314T020000
RDATE:20280312T020000
END:DAYLIGHT
END:VTIMEZONE
BEGIN:VEVENT
UID:2b6f6dbd-c644-42ad-a179-165939b5ad21
DTSTAMP:20260422T203214Z
DESCRIPTION:
DTSTART;TZID=America/Chicago:20261216T050000
DTEND;TZID=America/Chicago:20261218T050001
LOCATION:Kearney
SUMMARY:NACO Annual Conference
END:VEVENT
END:VCALENDAR
